BEGIN:VCALENDAR
VERSION:2.0
PRODID:-// - ECPv4.9.3.1//NONSGML v1.0//EN
CALSCALE:GREGORIAN
METHOD:PUBLISH
X-ORIGINAL-URL:https://dheivamurasu.org
X-WR-CALDESC:Events for 
BEGIN:VEVENT
DTSTART;TZID=UTC+0:20251107T173000
DTEND;TZID=UTC+0:20251107T203000
DTSTAMP:20260425T171937
CREATED:20251103T060851Z
LAST-MODIFIED:20251111T095354Z
UID:6877-1762536600-1762547400@dheivamurasu.org
SUMMARY:திருமுருக கிருபானந்த வாரியார் திருவுருவச்சிலை திறப்பு விழா மற்றும் குருபூஜை விழா
DESCRIPTION:\n\n\n                                       கீழ்க்கண்ட நிகழ்ச்சி நிரலின்படி நடைபெறும். அனைவரும் வந்து கலந்து\n                                        கொண்டு விழாவினைச் சிறப்பித்து இறையருள் பெற வேண்டுகிறோம்.\n                                                                                          நிகழ்ச்சி நிரல் :  \n                                         இறைவணக்கம் : சிவத்திரு. B. சோமு B.E.\, அவர்கள்\, உதவி செயலாளர்\n                                         தலைமை             : சிவத்திரு. K. வைத்திலிங்கம் B.A.B.L\, அவர்கள்\, தலைவர் \n                                         முன்னிலை          : திரு. முனைவர். சண்முக. செல்வகணபதி அவர்கள்\,\n                                                                           மேனாள் முதல்வர்\, அரசர் கல்லூரி\, திருவையாறு. \n                                         வரவேற்புரை       : சிவத்திரு. R. கலியமூர்த்தி அவர்கள்\, செயலாளர்\n                                         திருவுருவச்சிலையைத் திறந்து வைத்துச் சொற்பொழிவாற்றுபவர் :\n                                                                   தமிழ் ஆகம அறிஞர்\, முதுமுனைவர்\,\n                                                   மு.பெ.சத்தியவேல் முருகனார் அவர்கள்\, சென்னை. \n                                         தலைப்பு                : “வாராது வந்த வாரியார் அவதாரம்” \n                                         நன்றியுரை           : முனைவர். வீ. ஜெயபால் Ph.D.\, அவர்கள்\, துணைத்தலைவர் \n \n  \n\n        \n\n\n\n
URL:https://dheivamurasu.org/event/thirumurugha-gurubananth-variyar-statue-unveiling-and-guru-pooja-ceremony/
LOCATION:Thanjai Raja Raja samaya sangham
ATTACH;FMTTYPE=image/jpeg:https://dheivamurasu.org/wp-content/uploads/2025/11/blog1.jpg
END:VEVENT
END:VCALENDAR