BEGIN:VCALENDAR
VERSION:2.0
PRODID:-// - ECPv4.9.3.1//NONSGML v1.0//EN
CALSCALE:GREGORIAN
METHOD:PUBLISH
X-ORIGINAL-URL:https://dheivamurasu.org
X-WR-CALDESC:Events for 
BEGIN:VEVENT
DTSTART;TZID=UTC+0:20250131T093000
DTEND;TZID=UTC+0:20250131T103000
DTSTAMP:20260424T060032
CREATED:20250210T083259Z
LAST-MODIFIED:20250210T172507Z
UID:6271-1738315800-1738319400@dheivamurasu.org
SUMMARY:திருக்குட நன்னீராட்டுப் பெருவிழாவிற்கு
DESCRIPTION:\n\n\nஸ்ரீ பஞ்சமுக லிங்கேஸ்வரர் திருக்கோவில் \nஇறைவன் திருவருளாம் குருவருளால் பன்னிரண்டாம் குழு மாணவர்கள் மிகச் சிறப்பாக ஆற்றிய கடவுள் மங்கலமாம் திருக்குட நன்னீராட்டுப் பெருவிழாவிற்கு குருபிரான் அவர்கள் அடியார் திருக்கூட்டத்தினர்களுடன் எழுந்தருளி ஆசி வழங்கிய நிகழ்வு அனைவரையும் நெகிழ்வுறச் செய்தது. சிறப்பாக திருப்பணி மற்றும் வேள்விச்சாலைப் பணிகளை ஆற்றிய அனைத்து அடியார்களுக்கும் நன்றி !\n \n\n\n\n
URL:https://dheivamurasu.org/event/thirukkuda-nannieratu-festival/
ATTACH;FMTTYPE=image/jpeg:https://dheivamurasu.org/wp-content/uploads/2025/02/limgam.jpg
END:VEVENT
END:VCALENDAR