BEGIN:VCALENDAR
VERSION:2.0
PRODID:-// - ECPv4.9.3.1//NONSGML v1.0//EN
CALSCALE:GREGORIAN
METHOD:PUBLISH
X-ORIGINAL-URL:https://dheivamurasu.org
X-WR-CALDESC:Events for 
BEGIN:VEVENT
DTSTART;TZID=UTC+0:20241104T110000
DTEND;TZID=UTC+0:20241108T170000
DTSTAMP:20260423T201444
CREATED:20241103T080917Z
LAST-MODIFIED:20241112T012917Z
UID:6144-1730718000-1731085200@dheivamurasu.org
SUMMARY:SRM - பக்தி இலக்கியப் பெருவிழா - 2024
DESCRIPTION:\n\n\n\nTholkapiyathil Irai.pdf\n\n\n\n\n
URL:https://dheivamurasu.org/event/srm-bakthi-illakiya-peruvizha-2024/
ATTACH;FMTTYPE=image/jpeg:https://dheivamurasu.org/wp-content/uploads/2024/11/பக்தி-இலக்கியப்-பெருவிழjpeg.jpeg
END:VEVENT
END:VCALENDAR