BEGIN:VCALENDAR
VERSION:2.0
PRODID:-// - ECPv4.9.3.1//NONSGML v1.0//EN
CALSCALE:GREGORIAN
METHOD:PUBLISH
X-ORIGINAL-URL:https://dheivamurasu.org
X-WR-CALDESC:Events for 
BEGIN:VEVENT
DTSTART;TZID=UTC+0:20251015T093000
DTEND;TZID=UTC+0:20251015T130000
DTSTAMP:20260425T141011
CREATED:20251010T095111Z
LAST-MODIFIED:20251016T074436Z
UID:6854-1760520600-1760533200@dheivamurasu.org
SUMMARY:சேக்கிழார் குரு பூசை – ஞான வேள்வி
DESCRIPTION:\n\n\n \n                                    சேக்கிழார் குரு பூசை – ஞான வேள்வி\nசேக்கிழார் திருவடிகள் போற்றி ! போற்றி !!\nமாதந்தோறும் ஞான வேள்வி\n      \n  \n \n    \n\n                             \nதிருமுறை இன்னிசை\nசிவத்திரு கந்தசாமி ஓதுவார்\, குழுவினருடன் \nசிறப்புச் சொற்பொழிவு\nசெந்தமிழ் வேள்விச் சதுரர்\, முதுமுனைவர்\, ஆகம அறிஞர் சிவத்திரு மு. பெ. சத்திய வேல் முருகனார். \n  \n\n\n\n
URL:https://dheivamurasu.org/event/sekkizhar-thiru-pusai-nyana-velli/
LOCATION:Deiva Sekkizhar Temple\, Kundrathur\, Deivach Sekkizhar Temple\, Kundrathur\, Chennai\, Tamil Nadu\, India
ATTACH;FMTTYPE=image/jpeg:https://dheivamurasu.org/wp-content/uploads/2025/10/oct-10-deivamurasu.jpeg
END:VEVENT
END:VCALENDAR