BEGIN:VCALENDAR
VERSION:2.0
PRODID:-// - ECPv4.9.3.1//NONSGML v1.0//EN
CALSCALE:GREGORIAN
METHOD:PUBLISH
X-ORIGINAL-URL:https://dheivamurasu.org
X-WR-CALDESC:Events for 
BEGIN:VEVENT
DTSTART;TZID=UTC+0:20251209T090000
DTEND;TZID=UTC+0:20251209T110000
DTSTAMP:20260425T202608
CREATED:20251210T050852Z
LAST-MODIFIED:20260105T062353Z
UID:6911-1765270800-1765278000@dheivamurasu.org
SUMMARY:சேக்கிழார் குரு பூசை-ஞான வேள்வி (09/12/2025)
DESCRIPTION:\n\n\n \n                                   சேக்கிழார் குரு பூசை – ஞான வேள்வி\nசேக்கிழார் திருவடிகள் போற்றி ! போற்றி !!\nமாதந்தோறும் ஞான வேள்வி\n  \nதிருமுறை இன்னிசை\nசிவத்திரு கந்தசாமி ஓதுவார்\, குழுவினருடன் \nசிறப்புச் சொற்பொழிவு\nசெந்தமிழ் வேள்விச் சதுரர்\, முதுமுனைவர்\, ஆகம அறிஞர் சிவத்திரு மு. பெ. சத்திய வேல் முருகனார். \n\n\n\n\n
URL:https://dheivamurasu.org/event/sekkizhar-guru-poosai-gnana-velvi-dec-09/
ATTACH;FMTTYPE=image/png:https://dheivamurasu.org/wp-content/uploads/2025/12/10-12-2025.png
END:VEVENT
END:VCALENDAR