BEGIN:VCALENDAR
VERSION:2.0
PRODID:-// - ECPv4.9.3.1//NONSGML v1.0//EN
CALSCALE:GREGORIAN
METHOD:PUBLISH
X-ORIGINAL-URL:https://dheivamurasu.org
X-WR-CALDESC:Events for 
BEGIN:VEVENT
DTSTART;TZID=UTC+0:20260424T090000
DTEND;TZID=UTC+0:20260424T130000
DTSTAMP:20260421T150908
CREATED:20260421T105234Z
LAST-MODIFIED:20260421T105234Z
UID:7129-1777021200-1777035600@dheivamurasu.org
SUMMARY:சேக்கிழார் குரு பூசை-ஞான வேள்வி  24-04-2026\, வெள்ளிக்கிழமை
DESCRIPTION:\n\n\n*தெய்வச்* *சேக்கிழார்* *திருவடிகள்* *போற்றி* ! *போற்றி* !! \n!! *மாதந்தோறும்* *ஞான* *வேள்வி* !! \n*இடம்* :\nதெய்வச் சேக்கிழார் திருக்கோவில்’\, குன்றத்தூர். \n*நாள்* : 24-04-2026\, வெள்ளிக்கிழமை. \n*நேரம்* : காலை 9.00 மணி முதல் பிற்பகல் 1.00 மணி.\nவரை. \n*நிகழ்ச்சி* *நிரல்* : \n*பெருமானுக்கு* *சிறப்புத்* *திருமஞ்சனம்* \,\nபோற்றி வழிபாடு\,\nதிருமுறை இன்னிசை\, சிறப்புச் சொற்பொழிவு\, அன்னம் பாலிப்பு. \n*திருமுறை* *இன்னிசை* :\nசிவத்திரு *கந்தசாமி* *ஓதுவார்* குழுவினருடன். \n*சிறப்புச்* *சொற்பொழிவு* :\nசெந்தமிழ் வேள்விச் சதுரர்\, ஆகம அறிஞர்\, முது முனைவர்\, சிவத்திரு *மு* . *பெ* . *சத்தியவேல்* *முருகனார்* \, \n*தலைப்பு* :\nதிருநாவுக்கரசு நாயனார் புராணம்- தொடர் நிகழ்ச்சி. (காணொளிக் காட்சி வாயிலாக) \n*நிகழ்ச்சி* *உபயம்* :\nசிவத்திரு *சிவராமன்* *அன்பு* *கணபதி* ‘\, சைதாப்பேட்டை. \n*அமைப்பு* :\nசேக்கிழார் ஞான வேள்வி அமைப்புக் குழு சார்பாக\, *சிவ* . *தணிகைமணி* \,\n9884234188 \n*அனைவரும்* *வருக* !\n*அருள்* *நலம்* *பெறுக* !!\n🍀🪷🌴🌳🌲💐🌷🌹🪷💐\n\, \n\n\n\n
URL:https://dheivamurasu.org/event/sekkizhar-guru-poosai-gnana-velvi-24-04-2026/
LOCATION:தெய்வச் சேக்கிழார் திருக்கோவில்’\, குன்றத்தூர்.
ATTACH;FMTTYPE=image/jpeg:https://dheivamurasu.org/wp-content/uploads/2025/10/oct-10-deivamurasu.jpeg
END:VEVENT
END:VCALENDAR