BEGIN:VCALENDAR
VERSION:2.0
PRODID:-// - ECPv4.9.3.1//NONSGML v1.0//EN
CALSCALE:GREGORIAN
METHOD:PUBLISH
X-ORIGINAL-URL:https://dheivamurasu.org
X-WR-CALDESC:Events for 
BEGIN:VEVENT
DTSTART;TZID=UTC+0:20250725T090000
DTEND;TZID=UTC+0:20250725T133000
DTSTAMP:20260425T014237
CREATED:20250724T073907Z
LAST-MODIFIED:20250725T094351Z
UID:6740-1753434000-1753450200@dheivamurasu.org
SUMMARY:சேக்கிழார் குரு பூசை - ஞான வேள்வி (25/07/2025)பூசம் நட்சத்திரத்தில் மாத குருபூசை வழிபாடு .
DESCRIPTION:\n\n\nதெய்வச் சேக்கிழார் திருவடிகள் போற்றி ! போற்றி !\nமாதந்தோறும் ஞான வேள்வி .\nபூசம் நட்சத்திரத்தில் மாத குருபூசை வழிபாடு . \nநாள் : 25-07-2025\, வெள்ளிக்கிழமை .\nஇடம் : தெய்வச் சேக்கிழார் திருக்கோயில் \, குன்றத்தூர் .\nநேரம்: காலை 9.00 மணி முதல்\nநிகழ்ச்சி நிரல் :\nபோற்றி வழிபாடு\, தீப ஒளி வழிபாடு\, திருமுறை வழிபாடு\, இன்னிசை\, சிறப்புச் சொற்பொழிவு\, அன்னம் பாலிப்பு.. \nதிருமுறை இன்னிசை :\nசிவத்திரு கந்தசாமி ஒது வார்\, குழுவினருடன். \nசிறப்புச் சொற்பொழிவு :\nகாலை 11.30 மணிக்கு\nசெந்தமிழ் வேள்விச் சதுரர்\, ஆகம அறிஞர் முது முனைவர்\,\nசிவத்திரு மு.பெ . சத்தியவேல் முருகனார் . \nதலைப்பு :\nதிருநாவுக்கரசு நாயனார் புராணம் – தொடர்ச்சி.\n(காணொளிக் காட்சி வாயிலாக) \nபிற்பகல் 1.00 மணிக்கு :\nஅன்னம் பாலிப்பு \nநிகழ்ச்சியின் உபயதாரர்கள் \nசிவத்திரு மா . முருகப்பன் \, அடையாறு.\nசிவத்திரு தண்டபாணி\, சைதாப்பேட்டை \nஅமைப்பு :\nசேக்கிழார் ஞான வேள்வி அமைப்புக் குழு\, சென்னை – 34. \nமேலும் தொடர்புக்கு:\nசிவ.தணிகைமணி\, அமைப்பாளர்\,\n(M) 9884234188. \n🙏 குருவருள் வழியில் திருவருள் பெற அனைவரையும் அன்புடன் அழைக்கின்றோம் .🙏 \n \n\n\n\n
URL:https://dheivamurasu.org/event/sekkizhar-guru-poojai-gnana-velvigal/
ATTACH;FMTTYPE=image/jpeg:https://dheivamurasu.org/wp-content/uploads/2025/03/WhatsApp-Image-2025-03-12-at-10.20.28-AM.jpeg
END:VEVENT
END:VCALENDAR