BEGIN:VCALENDAR
VERSION:2.0
PRODID:-// - ECPv4.9.3.1//NONSGML v1.0//EN
CALSCALE:GREGORIAN
METHOD:PUBLISH
X-ORIGINAL-URL:https://dheivamurasu.org
X-WR-CALDESC:Events for 
BEGIN:VEVENT
DTSTART;TZID=UTC+0:20251227T170000
DTEND;TZID=UTC+0:20251227T200000
DTSTAMP:20260425T234824
CREATED:20260103T110026Z
LAST-MODIFIED:20260114T083752Z
UID:6958-1766854800-1766865600@dheivamurasu.org
SUMMARY:பாவை  திருவிழா
DESCRIPTION:\n\n\n \n\n\n\n\n
URL:https://dheivamurasu.org/event/paavai-thiruvizha/
LOCATION:அருள்மிகு பாலாண்டீசுவரர் திருக்கோயில்\, பாலாண்டீசுவரர் திருக்கோயில் தெரு. மாங்காடு\, சென்னை – 600 122.\, Chennai\, India
ATTACH;FMTTYPE=image/jpeg:https://dheivamurasu.org/wp-content/uploads/2026/01/03-01.jpeg
END:VEVENT
END:VCALENDAR