BEGIN:VCALENDAR
VERSION:2.0
PRODID:-// - ECPv4.9.3.1//NONSGML v1.0//EN
CALSCALE:GREGORIAN
METHOD:PUBLISH
X-ORIGINAL-URL:https://dheivamurasu.org
X-WR-CALDESC:Events for 
BEGIN:VEVENT
DTSTART;TZID=UTC+0:20240927T120000
DTEND;TZID=UTC+0:20240927T120000
DTSTAMP:20260423T233509
CREATED:20240927T132029Z
LAST-MODIFIED:20240927T132029Z
UID:6116-1727438400-1727438400@dheivamurasu.org
SUMMARY:நெதர்லாந்து சூரியத்தமிழ் இணையவழித் தொலைக்காட்சி நூற்றாண்டு விழா
DESCRIPTION:\n\n\n\n\n\n
URL:https://dheivamurasu.org/event/netherlands-suriya-tamil/
ATTACH;FMTTYPE=image/jpeg:https://dheivamurasu.org/wp-content/uploads/2024/09/நெதர்லாந்து-சூரியத்தமிழ்.jpeg
END:VEVENT
END:VCALENDAR