BEGIN:VCALENDAR
VERSION:2.0
PRODID:-// - ECPv4.9.3.1//NONSGML v1.0//EN
CALSCALE:GREGORIAN
METHOD:PUBLISH
X-ORIGINAL-URL:https://dheivamurasu.org
X-WR-CALDESC:Events for 
BEGIN:VEVENT
DTSTART;TZID=UTC+0:20240824T080000
DTEND;TZID=UTC+0:20240825T170000
DTSTAMP:20260424T030352
CREATED:20240820T143812Z
LAST-MODIFIED:20240902T092607Z
UID:6074-1724486400-1724605200@dheivamurasu.org
SUMMARY:முத்தமிழ் முருகன் மாநாடு-2024-பழனி
DESCRIPTION:\n\n\n\nhttps://www.facebook.com/watch/?v=1058238958980043\nhttps://www.facebook.com/100077959868984/videos/1418876362122295 \nInvitation Palani MMM 2024 \n \n \n \n\n\n\n
URL:https://dheivamurasu.org/event/muthamizh-murugan-maanadu/
ATTACH;FMTTYPE=image/png:https://dheivamurasu.org/wp-content/uploads/2024/08/Screenshot.png
END:VEVENT
END:VCALENDAR