BEGIN:VCALENDAR
VERSION:2.0
PRODID:-// - ECPv4.9.3.1//NONSGML v1.0//EN
CALSCALE:GREGORIAN
METHOD:PUBLISH
X-ORIGINAL-URL:https://dheivamurasu.org
X-WR-CALDESC:Events for 
BEGIN:VEVENT
DTSTART;TZID=UTC+5.5:20241109T073000
DTEND;TZID=UTC+5.5:20241109T170000
DTSTAMP:20260423T215619
CREATED:20241107T085242Z
LAST-MODIFIED:20241112T020238Z
UID:6175-1731137400-1731171600@dheivamurasu.org
SUMMARY:மூலன் உரை செய்த முப்பது உபதேசம்
DESCRIPTION:\n\n\n \nZOOM Meeting \nMeeting ID: 717 6975 4889 \nPasscode: KNX6xh \n\n\n\n
URL:https://dheivamurasu.org/event/mulan-urai-seidha-muppathu-upasegam/
ATTACH;FMTTYPE=image/png:https://dheivamurasu.org/wp-content/uploads/2024/11/thirumular.png
END:VEVENT
END:VCALENDAR