BEGIN:VCALENDAR
VERSION:2.0
PRODID:-// - ECPv4.9.3.1//NONSGML v1.0//EN
CALSCALE:GREGORIAN
METHOD:PUBLISH
X-ORIGINAL-URL:https://dheivamurasu.org
X-WR-CALDESC:Events for 
BEGIN:VEVENT
DTSTART;TZID=UTC+0:20250406T090000
DTEND;TZID=UTC+0:20250406T130000
DTSTAMP:20260424T140006
CREATED:20250402T052848Z
LAST-MODIFIED:20250402T054643Z
UID:6353-1743930000-1743944400@dheivamurasu.org
SUMMARY:பூசத் தாரகையில் மாத குரு பூசை வழிபாடு
DESCRIPTION:\n\n\nதெய்வச் சேக்கிழார் திருவடிகள் போற்றி ! போற்றி !\n🌿🌿🌿🌿🌿🌿🌿🌿🌿🌿🌿🌿\nமாதந்தோறும் ஞான வேள்வி\n🌸🌸🌸🌸🌸🌸🌸🌸🌸🌸🌸🌸\nபூசத் தாரகையில் மாத குரு பூசை வழிபாடு \,\n🦚🦚🦚🦚🦚🦚🦚🦚🦚🦚🦚🦚\nநாள் : 06-04-2025\, ஞாயிற்றுக்கிழமை \nஇடம் : தெய்வச் சேக்கிழார் திருக்கோயில்\,\nகுன்றத்தூர். \nநேரம் : காலை 9.00 மணி முதல் மதியம் 1.00 மணி வரை. \nநிகழ்ச்சி நிரல் : பெருமானுக்கு சிறப்புத் திருமஞ்சனம்\, சிறப்பு அலங்காரம்\, தீபாராதனை\, போற்றி வழிபாடு\, திருமுறை இன்னிசை\, சிறப்புச் சொற்பொழிவு\, அன்னம் பாலிப்பு. \nதிருமுறை இன்னிசை : சிவத்திரு கந்தசாமி ஓதுவார்\, குழுவினருடன். \nசிறப்புச் சொற்பொழிவு : (காணொலிக் காட்சி வாயிலாக)\nசெந்தமிழ் வேள்விச் சதுரர்\, முதுமுனைவர்\, ஆகம அறிஞர்\, சிவத்திரு மு.பெ . சத்தியவேல் முருகனார் \, \nதலைப்பு :\nதிருநாவுக்கரசு நாயனார் புராணம் – தொடர்ச்சி. \nநிகழ்ச்சி உபயம் :\nசிவத்திரு V.K . நடராஜன் அவர்கள்\, மயிலாப்பூர். \nநிகழ்ச்சி அமைப்பு :\nசேக்கிழார் ஞானவேள்வி அமைப்புக் குழு\, சென்னை. \nதொடர்புக்கு :\nசிவ.தணிகைமணி\,\nஅமைப்பாளர்\,\n9884234 188\n🌹🌹🌹🌹🌹🌹🌹🌹🌹🌹🌹🌹\nஅனைவரும் வருக!\nஅருள் நலம் பெறுக!!\n🌻🌻🌹🦚🌸🌿🌸🦚🌹🌻🪷🌹 \n\n\n\n
URL:https://dheivamurasu.org/event/monthly-guru-pooja-at-poosath-tharagai/
ATTACH;FMTTYPE=image/jpeg:https://dheivamurasu.org/wp-content/uploads/2025/03/WhatsApp-Image-2025-03-12-at-10.20.28-AM.jpeg
END:VEVENT
END:VCALENDAR