BEGIN:VCALENDAR
VERSION:2.0
PRODID:-// - ECPv4.9.3.1//NONSGML v1.0//EN
CALSCALE:GREGORIAN
METHOD:PUBLISH
X-ORIGINAL-URL:https://dheivamurasu.org
X-WR-CALDESC:Events for 
BEGIN:VEVENT
DTSTART;TZID=UTC+0:20250504T090000
DTEND;TZID=UTC+0:20250504T130000
DTSTAMP:20260424T172350
CREATED:20250429T093612Z
LAST-MODIFIED:20250506T052631Z
UID:6657-1746349200-1746363600@dheivamurasu.org
SUMMARY:பூசம் நட்சத்திரத்தில் மாத குருபூசை வழிபாடு
DESCRIPTION:\n\n\n🙏🌻🌸🌹🦚🌿🌻🦚\nதெய்வச் சேக்கிழார் திருவடிகள் போற்றி ! போற்றி !\n🌹🌹🌻🙏🌸🦚🌿🐃 \nமாதந்தோறும் ஞான வேள்வி  \nபூசம் நட்சத்திரத்தில் மாத குருபூசை வழிபாடு !\n🌹🌻🌸🐘🦚🌻🌸\nநாள் : 04-05-2025\,\nஞாயிற்றுக் கிழமை .\nஇடம் : தெய்வச் சேக்கிழார் திருக்கோயில் \, குன்றத்தூர் .\n🌹🦚🐘🌸🌻🧚🏼‍♂️🌿\nநேரம் : காலை 9.00 மணி முதல் மதியம் 1-00 மணி வரை. \nநிகழ்ச்சி நிரல் :\nபெருமானுக்கு சிறப்புத் திருமஞ்சனம்\, தீப ஒளி வழிபாடு\, போற்றி வழிபாடு\, திருமுறை இன்னிசை\, சிறப்புச் சொற்பொழிவு\, அன்னம் பாலிப்பு. \nதிருமுறை இன்னிசை \,: திருவான்மியூர் சிவத்திரு பேச்சியப்பன் ஓதுவார்.\nமிருதங்கம்: சிவத்திரு கார்த்திகேயன் \,\nவயலின் : சிவத்திரு சிவக்குமார் \, \nசிறப்புச் சொற்பொழிவு :\nசெந்தமிழ் வேள்விச் சதுரர்\, ஆகம அறிஞர்\,முது முனைவர்\,\nசிவத்திரு மு.பெ . சத்தியவேல் முருகனார் . \nதலைப்பு :\nதிருநாவுக்கரசு நாயனார் புராணம் \,_ தொடர்ச்சி .\n(காணொளிக் காட்சி வாயிலாக) \nநிகழ்ச்சி உபயம் : \nசிவத்திரு சிவராமன் அன்பு கணபதி \,\nசைதாப்பேட்டை . \nதொடர்புக்கு : \nசிவ தணிகைமணி \,\nஅமைப்பாளர்.\n9884234188.\n🙏🌹🦚🦚🦚🌻🌻🌸\nதிருவருளையும் குருவருளையும் ஒருங்கே பெறுக !!! \nஅனைவரையும் வருக ! வருக ! என்று வரவேற்கிறோம் !!\n🦚🌻🌻🌸🌸🌹🌹 \n \n\n\n\n
URL:https://dheivamurasu.org/event/may-monthly-guru-pooja-at-poosath-tharagai/
ATTACH;FMTTYPE=image/jpeg:https://dheivamurasu.org/wp-content/uploads/2025/03/WhatsApp-Image-2025-03-12-at-10.20.28-AM.jpeg
END:VEVENT
END:VCALENDAR