BEGIN:VCALENDAR
VERSION:2.0
PRODID:-// - ECPv4.9.3.1//NONSGML v1.0//EN
CALSCALE:GREGORIAN
METHOD:PUBLISH
X-ORIGINAL-URL:https://dheivamurasu.org
X-WR-CALDESC:Events for 
BEGIN:VEVENT
DTSTART;TZID=UTC+0:20251004T160000
DTEND;TZID=UTC+0:20251004T210000
DTSTAMP:20260425T121023
CREATED:20251006T103500Z
LAST-MODIFIED:20251007T052443Z
UID:6842-1759593600-1759611600@dheivamurasu.org
SUMMARY:மருந்தீஸ்வரர் தேவாசிரியன் திருமுறை மண்டபம் வெள்ளி விழா - அருள்மிகு மருந்தீஸ்வரர் திருக்கோயில் திருவான்மியூர்
DESCRIPTION:\n\n\n  \nமருந்தீஸ்வரர் தேவாசிரியன் திருமுறை மண்டபம் வெள்ளி விழா – அருள்மிகு மருந்தீஸ்வரர் திருக்கோயில் திருவான்மியூர் \nதேவாசிரி மண்டப மூத்த சொற்பொழிவாளர் விருது செந்தமிழ் வேள்விச் சதுரர் முதுமுனைவர் மு பெ சத்தியவேல் முருகனார் \n  \n    \n\n\n\n
URL:https://dheivamurasu.org/event/maruntheeswarar-temple-mandapam-vizha/
LOCATION:Thiruvanmiyur\, Chennai\, Thiruvanmiyur\, Chennai\, India
ATTACH;FMTTYPE=image/jpeg:https://dheivamurasu.org/wp-content/uploads/2025/10/WhatsApp-Image-2025-10-04-at-3.54.21-PM.jpeg
END:VEVENT
END:VCALENDAR