BEGIN:VCALENDAR
VERSION:2.0
PRODID:-// - ECPv4.9.3.1//NONSGML v1.0//EN
CALSCALE:GREGORIAN
METHOD:PUBLISH
X-ORIGINAL-URL:https://dheivamurasu.org
X-WR-CALDESC:Events for 
BEGIN:VEVENT
DTSTART;TZID=UTC+0:20250726T190000
DTEND;TZID=UTC+0:20250726T203000
DTSTAMP:20260425T032135
CREATED:20250726T123256Z
LAST-MODIFIED:20250727T150159Z
UID:6746-1753556400-1753561800@dheivamurasu.org
SUMMARY:தங்கத் தமிழும் ஆன்மீகமும்
DESCRIPTION:\n\n\n \n\n\n\n
URL:https://dheivamurasu.org/event/golden-tamil-and-spirituality/
ATTACH;FMTTYPE=image/jpeg:https://dheivamurasu.org/wp-content/uploads/2025/07/WhatsApp-Image-2025-07-26-at-09.23.13_fa8a1b03.jpg
END:VEVENT
END:VCALENDAR