BEGIN:VCALENDAR
VERSION:2.0
PRODID:-// - ECPv4.9.3.1//NONSGML v1.0//EN
CALSCALE:GREGORIAN
METHOD:PUBLISH
X-ORIGINAL-URL:https://dheivamurasu.org
X-WR-CALDESC:Events for 
BEGIN:VEVENT
DTSTART;TZID=UTC+0:20251225T080000
DTEND;TZID=UTC+0:20251225T200000
DTSTAMP:20260425T222812
CREATED:20251215T054046Z
LAST-MODIFIED:20251215T064104Z
UID:6935-1766649600-1766692800@dheivamurasu.org
SUMMARY:35th திருமந்திர முற்றோதல் விழா
DESCRIPTION:\n\n\nஅழைப்பிதழ் பதிவிறக்கம் செய்க\n           35th year Thirumanthira mutrodhal Invitation design \n\n\n\n
URL:https://dheivamurasu.org/event/35th-thirumanthara-mutrothal/
LOCATION:SRM Auditorium\, Chennai\, India
ATTACH;FMTTYPE=image/jpeg:https://dheivamurasu.org/wp-content/uploads/2025/12/15-12-1-e1765779449333.jpeg
END:VEVENT
END:VCALENDAR