BEGIN:VCALENDAR
VERSION:2.0
PRODID:-// - ECPv4.9.3.1//NONSGML v1.0//EN
CALSCALE:GREGORIAN
METHOD:PUBLISH
X-ORIGINAL-URL:http://dheivamurasu.org
X-WR-CALDESC:Events for 
BEGIN:VEVENT
DTSTART;TZID=UTC+0:20240428T073000
DTEND;TZID=UTC+0:20240428T173000
DTSTAMP:20260424T044042
CREATED:20240424T083405Z
LAST-MODIFIED:20240424T083405Z
UID:5975-1714289400-1714325400@dheivamurasu.org
SUMMARY:திருநாவுக்கரசர் விழா-அப்பர்  அருளமுதம் - முதுமுனைவர் மு.பெ.சத்தியவேல் முருகனார் சொற்பொழிவு
DESCRIPTION:\n\n\n \n\n\n\n
URL:http://dheivamurasu.org/event/thirunavukkarasar-vizha-appar-arulamutham/
ATTACH;FMTTYPE=image/jpeg:http://dheivamurasu.org/wp-content/uploads/2024/04/Thirunavukarasar-Vizha3.jpg
END:VEVENT
END:VCALENDAR