BEGIN:VCALENDAR
VERSION:2.0
PRODID:-// - ECPv4.9.3.1//NONSGML v1.0//EN
CALSCALE:GREGORIAN
METHOD:PUBLISH
X-ORIGINAL-URL:http://dheivamurasu.org
X-WR-CALDESC:Events for 
BEGIN:VEVENT
DTSTART;TZID=UTC+0:20200301T110000
DTEND;TZID=UTC+0:20200301T153000
DTSTAMP:20260421T072527
CREATED:20200302T063949Z
LAST-MODIFIED:20200302T063949Z
UID:4058-1583060400-1583076600@dheivamurasu.org
SUMMARY:THE LOGICAL TRUTHS & SCIENCE OF SAIVA SIDDHANTHAM AND MURUGAN BHAKTI
DESCRIPTION:\n\n\n\n\n\n		\n				\n				        \n            \n                \n            \n        \n							 \n			\n				\n				        \n            \n                \n            \n        \n							 \n			\n				\n				        \n            \n                \n            \n        \n							 \n			\n				\n				        \n            \n                \n            \n        \n							 \n			\n				\n				        \n            \n                \n            \n        \n							 \n			\n				\n				        \n            \n                \n            \n        \n							 \n			\n				\n				        \n            \n                \n            \n        \n							 \n			\n				\n				        \n            \n                \n            \n        \n							 \n			\n	\n	\n\n	\n		\n		\n \n\n\n\n
URL:http://dheivamurasu.org/event/the-logical-truths-science-of-saiva-siddhantham-and-murugan-bhakti/
LOCATION:Roshnee Siva Soobramaniyar Alayam\, 1 Banaras Street\, Roshnee\,\, Vereeniging\,\, Gauteng Province\,\, South Africa
ATTACH;FMTTYPE=image/jpeg:http://dheivamurasu.org/wp-content/uploads/2020/03/Roshnee-Temple-Invitation_page-0001.jpg
END:VEVENT
END:VCALENDAR