BEGIN:VCALENDAR
VERSION:2.0
PRODID:-// - ECPv4.9.3.1//NONSGML v1.0//EN
CALSCALE:GREGORIAN
METHOD:PUBLISH
X-ORIGINAL-URL:http://dheivamurasu.org
X-WR-CALDESC:Events for 
BEGIN:VEVENT
DTSTART;TZID=UTC+0:20191004T100000
DTEND;TZID=UTC+0:20191004T133000
DTSTAMP:20260424T061930
CREATED:20191009T110357Z
LAST-MODIFIED:20191009T110735Z
UID:3389-1570183200-1570195800@dheivamurasu.org
SUMMARY:தமிழர் மரபில் திருமூலரும் அருளாளர் நெறிகளும்
DESCRIPTION:\n\n\nஉலகத்தமிழ் ஆராய்ச்சி நிறுவனம் – தமிழர் மரபில் திருமூலரும் அருளாளர் நெறிகளும் – திருமந்திர ஆய்வு இருக்கை 5 – ஆம் ஆண்டு தொடக்கவிழா மற்றும் வள்ளலார் இருக்கை தொடக்க விழா – 04102019\n \n\n\n\n		\n				\n				        \n            \n                \n            \n        \n							 \n			\n				\n				        \n            \n                \n            \n        \n							 \n			\n				\n				        \n            \n                \n            \n        \n							 \n			\n				\n				        \n            \n                \n            \n        \n							 \n			\n				\n				        \n            \n                \n            \n        \n							 \n			\n	\n	\n\n	\n		\n		\n\n  \nஉலகத்தமிழ் ஆராய்ச்சி நிறுவனம் – தமிழர் மரபில் திருமூலரும் அருளாளர் நெறிகளும் – திருமந்திர ஆய்வு இருக்கை 5 – ஆம் ஆண்டு தொடக்கவிழா மற்றும் வள்ளலார் இருக்கை தொடக்க விழா – 04102019 · Saturday\, Oct 5\, 2019 📸 / Google Photos\n\n\n\n
URL:http://dheivamurasu.org/event/tamilar-marabil-thirumoolarum/
LOCATION:உலகத் தமிழ் ஆராய்ச்சி நிறுவனம்\, 2nd Main Rd\, Kazhikundram\, Tharamani\,\, chennai\, Tamilnadu\, 600113\, India
ATTACH;FMTTYPE=image/jpeg:http://dheivamurasu.org/wp-content/uploads/2019/10/IMG20191005113704.jpg
END:VEVENT
END:VCALENDAR