BEGIN:VCALENDAR
VERSION:2.0
PRODID:-// - ECPv4.9.3.1//NONSGML v1.0//EN
CALSCALE:GREGORIAN
METHOD:PUBLISH
X-ORIGINAL-URL:http://dheivamurasu.org
X-WR-CALDESC:Events for 
BEGIN:VEVENT
DTSTART;TZID=UTC+0:20230730T100000
DTEND;TZID=UTC+0:20230730T125000
DTSTAMP:20260423T153530
CREATED:20230731T080232Z
LAST-MODIFIED:20230731T080232Z
UID:5641-1690711200-1690721400@dheivamurasu.org
SUMMARY:தமிழ் அருட்சுனைஞர் சான்றிதழ்க் கல்வி 10ஆம் குழாம் (2021-22) பட்டமளிப்பு விழா
DESCRIPTION:\n\n\n  \n\n\n\n
URL:http://dheivamurasu.org/event/tamil-arutcunainar-canritalk-kalvi/
LOCATION:Chennai
ATTACH;FMTTYPE=image/jpeg:http://dheivamurasu.org/wp-content/uploads/2023/07/SRM-University-1.jpeg
END:VEVENT
END:VCALENDAR