BEGIN:VCALENDAR
VERSION:2.0
PRODID:-// - ECPv4.9.3.1//NONSGML v1.0//EN
CALSCALE:GREGORIAN
METHOD:PUBLISH
X-ORIGINAL-URL:http://dheivamurasu.org
X-WR-CALDESC:Events for 
BEGIN:VEVENT
DTSTART;TZID=UTC+0:20190818T090000
DTEND;TZID=UTC+0:20190818T090000
DTSTAMP:20260424T204754
CREATED:20190826T114740Z
LAST-MODIFIED:20191220T065901Z
UID:3186-1566118800-1566118800@dheivamurasu.org
SUMMARY:சுந்தரர் விழா - ஓத உலவா ஒரு தோழன் தொண்டருளன்
DESCRIPTION:\n\n\nஐயா குருபிரான் அவர்களின் அருட்பொழிவு இன்று (18.08.2019) காலை 11.30  மணியளவில் ஓத உலவா “ஒரு தோழன் தொண்டருளன்” எனும் தலைப்பில்  சண்முகசுந்தரம் அரங்கம்\, மயிலாப்பூரில் நடைபெறவுள்ளது. அனைவரும் வருக!! \nஅருளமுதம் பெறுக !!\n \n\n\n\n		\n				\n				        \n            \n                \n            \n        \n							 \n			\n				\n				        \n            \n                \n            \n        \n							 \n			\n				\n				        \n            \n                \n            \n        \n							 \n			\n				\n				        \n            \n                \n            \n        \n							 \n			\n				\n				        \n            \n                \n            \n        \n							 \n			\n	\n	\n\n	\n		\n		\n \n\n\n\n
URL:http://dheivamurasu.org/event/sundharar-vizha/
LOCATION:சண்முகசுந்தரம் அரங்கம்- மைலாப்பூர்\, mylapore\, chennai\, Tamilnadu\, 600004\, India
ATTACH;FMTTYPE=image/jpeg:http://dheivamurasu.org/wp-content/uploads/2019/08/IMG-20190818-WA0125.jpeg
END:VEVENT
END:VCALENDAR