BEGIN:VCALENDAR
VERSION:2.0
PRODID:-// - ECPv4.9.3.1//NONSGML v1.0//EN
CALSCALE:GREGORIAN
METHOD:PUBLISH
X-ORIGINAL-URL:http://dheivamurasu.org
X-WR-CALDESC:Events for 
BEGIN:VEVENT
DTSTART;TZID=UTC+0:20200119T133000
DTEND;TZID=UTC+0:20200119T133000
DTSTAMP:20260422T085208
CREATED:20200118T091658Z
LAST-MODIFIED:20200118T091658Z
UID:3908-1579440600-1579440600@dheivamurasu.org
SUMMARY:ஸ்ரீ சிவ சுந்தர விநாயக தேவார பாராயண பக்த ஜன சபை - நூற்றாண்டு விழா
DESCRIPTION:\n\n\n\n\n\n\n\n\nதேவார பாராயண பக்த ஜன சபை நூற்றாண்டு விழா\n \nமுதுமுனைவர் மு.பெ.சத்தியவேல் முருகனார் அவர்களின் சொற்பொழிவு\n \nதலைப்பு: திருஞானசம்பந்தரும் தமிழும்\n \nநாள்/நேரம்: 19-1-2020 / 01:30pm\n \nஇடம்: பெருந்தலைவா் காமராஜா் திருமண மாளிகை\, ராயபுரம்\, சென்னை\n\n \n \n\n\n \n\n\n \n\n\n\n \n\n\n\n\n\n
URL:http://dheivamurasu.org/event/sri-siva-sundara-vinayaga-devara-parayanaa-baktha-sabhai-nootrandu-vizha/
LOCATION:பெருந்தலைவா் காமராஜா் திருமண மாளிகை\, 16/9 Somu chetty street\, 6th Ln\, near Singara Garden\, Old Washermanpet\,\, Chennai\, Tamil Nadu\, 600021\, India
END:VEVENT
END:VCALENDAR