BEGIN:VCALENDAR
VERSION:2.0
PRODID:-// - ECPv4.9.3.1//NONSGML v1.0//EN
CALSCALE:GREGORIAN
METHOD:PUBLISH
X-ORIGINAL-URL:http://dheivamurasu.org
X-WR-CALDESC:Events for 
BEGIN:VEVENT
DTSTART;TZID=UTC+0:20200221T100000
DTEND;TZID=UTC+0:20200221T123000
DTSTAMP:20260421T035354
CREATED:20200222T060510Z
LAST-MODIFIED:20200222T060510Z
UID:4041-1582279200-1582288200@dheivamurasu.org
SUMMARY:சிறப்பு தீக்கை (விசேட தீக்கை) - பழ அடியார்கள்
DESCRIPTION:\n\n\n\n\n\n		\n				\n				        \n            \n                \n            \n        \n							 \n			\n				\n				        \n            \n                \n            \n        \n							 \n			\n				\n				        \n            \n                \n            \n        \n							 \n			\n				\n				        \n            \n                \n            \n        \n							 \n			\n				\n				        \n            \n                \n            \n        \n							 \n			\n				\n				        \n            \n                \n            \n        \n							 \n			\n				\n				        \n            \n                \n            \n        \n							 \n			\n	\n	\n\n	\n		\n		\n \nClick Here for more Photos\n \n\n\n\n
URL:http://dheivamurasu.org/event/sirappu-dhikkai-pazha-adikagalar/
LOCATION:12/f\, 11th street\, New colony\, Adambakkam\, 12/f\, 11th street\, new colony\, Adambakkam\, Chennai\, 600088\, India
ATTACH;FMTTYPE=image/jpeg:http://dheivamurasu.org/wp-content/uploads/2020/02/IMG20200221084357-scaled.jpg
END:VEVENT
END:VCALENDAR