BEGIN:VCALENDAR
VERSION:2.0
PRODID:-// - ECPv4.9.3.1//NONSGML v1.0//EN
CALSCALE:GREGORIAN
METHOD:PUBLISH
X-ORIGINAL-URL:http://dheivamurasu.org
X-WR-CALDESC:Events for 
BEGIN:VEVENT
DTSTART;TZID=UTC+0:20190714T100000
DTEND;TZID=UTC+0:20190714T130000
DTSTAMP:20260425T202921
CREATED:20190917T124232Z
LAST-MODIFIED:20190919T075621Z
UID:3303-1563098400-1563109200@dheivamurasu.org
SUMMARY:சிறப்பு தீக்கை
DESCRIPTION:\n\n\nsiRappu dheekkai (visEda dheekkai) 14072019 · Jul 13 – 14\, 2019 📸 / Google Photos\n\n\n\n
URL:http://dheivamurasu.org/event/sirappu-dheekkai/
LOCATION:12/f\, 11th street\, New colony\, Adambakkam\, 12/f\, 11th street\, new colony\, Adambakkam\, Chennai\, 600088\, India
ATTACH;FMTTYPE=image/jpeg:http://dheivamurasu.org/wp-content/uploads/2019/09/IMG20190714081809.jpg
END:VEVENT
END:VCALENDAR