BEGIN:VCALENDAR
VERSION:2.0
PRODID:-// - ECPv4.9.3.1//NONSGML v1.0//EN
CALSCALE:GREGORIAN
METHOD:PUBLISH
X-ORIGINAL-URL:http://dheivamurasu.org
X-WR-CALDESC:Events for 
BEGIN:VEVENT
DTSTART;TZID=UTC+0:20190815T100000
DTEND;TZID=UTC+0:20190815T123000
DTSTAMP:20260425T020024
CREATED:20190816T075555Z
LAST-MODIFIED:20190909T115546Z
UID:3100-1565863200-1565872200@dheivamurasu.org
SUMMARY:செம்பொருட்துணிபு - இரண்டாம் சூத்திரம் அருளுரை !
DESCRIPTION:\n\n\nஐயா குருபிரான் அவர்களின்  உலகத் தமிழ் ஆராய்ச்சி நிறுவனம் – செம்பொருட்துணிபு – இரண்டாம் சூத்திரம் அருளுரை ! \n  \n\n\n\n
URL:http://dheivamurasu.org/event/semporutthunipu-2nd-suthiram-arulurai/
LOCATION:உலகத் தமிழ் ஆராய்ச்சி நிறுவனம்\, 2nd Main Rd\, Kazhikundram\, Tharamani\,\, chennai\, Tamilnadu\, 600113\, India
END:VEVENT
END:VCALENDAR