BEGIN:VCALENDAR
VERSION:2.0
PRODID:-// - ECPv4.9.3.1//NONSGML v1.0//EN
CALSCALE:GREGORIAN
METHOD:PUBLISH
X-ORIGINAL-URL:http://dheivamurasu.org
X-WR-CALDESC:Events for 
BEGIN:VEVENT
DTSTART;TZID=UTC+0:20200718T063000
DTEND;TZID=UTC+0:20200718T073000
DTSTAMP:20260421T165234
CREATED:20200713T122439Z
LAST-MODIFIED:20200713T122439Z
UID:4190-1595053800-1595057400@dheivamurasu.org
SUMMARY:சேக்கிழார் செந்தமிழ்
DESCRIPTION:\n\n\nZoom Meeting id : 845 6012 5335\npassword : 259950 \nஉரையாற்றுபவர்:\nஞானகுருநாதர்\, முதுமுனைவர். மு.பெ.சத்தியவேல் முருகனார் \nநேரலை முகவரி\nYouTube Live:\nhttps://www.youtube.com/dheivamurasu\nFacebook Live:\nhttps://facebook.com/dheivathamizh.arakattalai.9 \n\n\n\n
URL:http://dheivamurasu.org/event/sekkizhar-senthamizh/
LOCATION:12/f\, 11th street\, New colony\, Adambakkam\, 12/f\, 11th street\, new colony\, Adambakkam\, Chennai\, 600088\, India
ATTACH;FMTTYPE=image/jpeg:http://dheivamurasu.org/wp-content/uploads/2020/07/WhatsApp-Image-2020-07-13-at-5.29.58-PM.jpeg
END:VEVENT
END:VCALENDAR