BEGIN:VCALENDAR
VERSION:2.0
PRODID:-// - ECPv4.9.3.1//NONSGML v1.0//EN
CALSCALE:GREGORIAN
METHOD:PUBLISH
X-ORIGINAL-URL:http://dheivamurasu.org
X-WR-CALDESC:Events for 
BEGIN:VEVENT
DTSTART;TZID=UTC+0:20190704T153000
DTEND;TZID=UTC+0:20190704T193000
DTSTAMP:20260425T232910
CREATED:20190703T061426Z
LAST-MODIFIED:20190709T090057Z
UID:2378-1562254200-1562268600@dheivamurasu.org
SUMMARY:சேக்கிழார் ஞானவேள்வி தடுத்தாட்கொண்டபுராணம் 5-ஆம் அமர்வு
DESCRIPTION:\n\n\nசேக்கிழார் ஞானவேள்வி தடுத்தாட்கொண்டபுராணம் 5-ஆம் அமர்வு \n04/07/2019 (03:30pm to 07:30pm) \nகுன்றத்தூர் தெய்வ சேக்கிழார் திருக்கோயில் \n\n\n\n		\n				\n				        \n            \n                \n            \n        \n							 \n			\n				\n				        \n            \n                \n            \n        \n							 \n			\n				\n				        \n            \n                \n            \n        \n							 \n			\n	\n	\n\n	\n		\n		\n \n\n\n\n
URL:http://dheivamurasu.org/event/sekkizhar-nyanavelvi-thadu/
LOCATION:குன்றத்தூர் தெய்வ சேக்கிழார் திருக்கோயில்\, Kundrathur Sekkizhar Temple\, Chennai\, India
ATTACH;FMTTYPE=image/jpeg:http://dheivamurasu.org/wp-content/uploads/2019/06/SekkizharGnanavelvi-MuPeSa.jpeg
END:VEVENT
END:VCALENDAR