BEGIN:VCALENDAR
VERSION:2.0
PRODID:-// - ECPv4.9.3.1//NONSGML v1.0//EN
CALSCALE:GREGORIAN
METHOD:PUBLISH
X-ORIGINAL-URL:http://dheivamurasu.org
X-WR-CALDESC:Events for 
BEGIN:VEVENT
DTSTART;TZID=UTC+0:20191107T100000
DTEND;TZID=UTC+0:20191107T130000
DTSTAMP:20260424T012448
CREATED:20191108T105157Z
LAST-MODIFIED:20191108T110548Z
UID:3531-1573120800-1573131600@dheivamurasu.org
SUMMARY:இராசராச சோழன் ஆண்டு விழா
DESCRIPTION:\n\n\n\n\n\n		\n				\n				        \n            \n                \n            \n        \n							 \n			\n				\n				        \n            \n                \n            \n        \n							 \n			\n				\n				        \n            \n                \n            \n        \n							 \n			\n				\n				        \n            \n                \n            \n        \n							 \n			\n	\n	\n\n	\n		\n		\n  \nஇராசராச சோழன் ஆண்டு விழா @ ஆவடி தமிழ்ச் சைவப் பேரவை – கண்ணபாளையம் 07112019 · Thursday\, Nov 7\, 2019 📸 / Google Photos\n  \n  \n\n\n\n
URL:http://dheivamurasu.org/event/rajaraja-cholan-annual-day/
LOCATION:தமிழ்ச் சைவப்பேரவை\, Avadi branch\, kannapalayam\, chennai\, Tamilnadu\, 600054\, India
ATTACH;FMTTYPE=image/jpeg:http://dheivamurasu.org/wp-content/uploads/2019/11/IMG20191107112917.jpg
END:VEVENT
END:VCALENDAR