BEGIN:VCALENDAR
VERSION:2.0
PRODID:-// - ECPv4.9.3.1//NONSGML v1.0//EN
CALSCALE:GREGORIAN
METHOD:PUBLISH
X-ORIGINAL-URL:http://dheivamurasu.org
X-WR-CALDESC:Events for 
BEGIN:VEVENT
DTSTART;TZID=UTC+0:20200704T183000
DTEND;TZID=UTC+0:20200704T183000
DTSTAMP:20260421T074611
CREATED:20200703T054055Z
LAST-MODIFIED:20200703T054055Z
UID:4173-1593887400-1593887400@dheivamurasu.org
SUMMARY:புறநானூறு தொடர் சொற்பொழிவு
DESCRIPTION:\n\n\nஆதம்பாக்கம் அருந்தமிழ் வழிபாட்டு மன்றம் மற்றும் தெய்வத்தமிழ் அறக்கட்டளை இணைந்து நடத்தும் \nபுறநானூறு தொடர் சொற்பொழிவு\nபாடல்: 175\nநாள்: ஜூலை 4\, 2020 காரி (சனி)க் கிழமை\nநேரம்: மாலை 6.30 மணி \nபெரியபுராணம் தொடர் சொற்பொழிவு\n15. மூர்த்தி நாயனார் \nநாள்: ஜூலை 5\, 2020 ஞாயிற்றுக்கிழமை\nநேரம்: மாலை 6.30 மணி \nஉரையாற்றுபவர்:\nஞானகுருநாதர்\, முதுமுனைவர். மு.பெ.சத்தியவேல் முருகனார் \nநேரலை முகவரி\nYouTube Live:\nhttps://www.youtube.com/dheivamurasu\nFacebook Live:\nhttps://www.facebook.com/Dr.M.P.SathiyavelMuruganar/live \nகுறிப்பு: இனி வாரந்தோறும் ஒவ்வொரு காரி (சனி)க் கிழமை\,\nஞாயிற்றுக்கிழமைகளில் இச்சொற்பொழிவுகள் நடைபெறும். \n\n\n\n
URL:http://dheivamurasu.org/event/purananoor-thodar-sorpozhivu/
LOCATION:12/f\, 11th street\, New colony\, Adambakkam\, 12/f\, 11th street\, new colony\, Adambakkam\, Chennai\, 600088\, India
ATTACH;FMTTYPE=image/jpeg:http://dheivamurasu.org/wp-content/uploads/2020/07/WhatsApp-Image-2020-07-03-at-8.29.48-AM.jpeg
END:VEVENT
END:VCALENDAR