BEGIN:VCALENDAR
VERSION:2.0
PRODID:-// - ECPv4.9.3.1//NONSGML v1.0//EN
CALSCALE:GREGORIAN
METHOD:PUBLISH
X-ORIGINAL-URL:http://dheivamurasu.org
X-WR-CALDESC:Events for 
BEGIN:VEVENT
DTSTART;TZID=UTC+0:20191229T163000
DTEND;TZID=UTC+0:20191229T203000
DTSTAMP:20260420T101210
CREATED:20191229T064451Z
LAST-MODIFIED:20200123T070647Z
UID:3938-1577637000-1577651400@dheivamurasu.org
SUMMARY:பெரியபுராணம் தொடர்ச் சொற்பொழிவு - ஆனாய நாயன்மார் (2 - ஆம் அமர்வு)
DESCRIPTION:\n\n\n\n\n\n
URL:http://dheivamurasu.org/event/periyapuranam-thodar-sorpozhivu-2nd-amarvu/
LOCATION:shivaprakasha arangam\, 6\, 1st street\, officers colony\, adamabakkam\, Chennai\, Tamil Nadu\, 600088\, India
ATTACH;FMTTYPE=image/jpeg:http://dheivamurasu.org/wp-content/uploads/2020/01/2nd-amarvu-scaled.jpeg
END:VEVENT
END:VCALENDAR