BEGIN:VCALENDAR
VERSION:2.0
PRODID:-// - ECPv4.9.3.1//NONSGML v1.0//EN
CALSCALE:GREGORIAN
METHOD:PUBLISH
X-ORIGINAL-URL:http://dheivamurasu.org
X-WR-CALDESC:Events for 
BEGIN:VEVENT
DTSTART;TZID=UTC+0:20200712T183000
DTEND;TZID=UTC+0:20200712T193000
DTSTAMP:20260421T145855
CREATED:20200711T084106Z
LAST-MODIFIED:20200712T135020Z
UID:4180-1594578600-1594582200@dheivamurasu.org
SUMMARY:பெரியபுராணம் தொடர் சொற்பொழிவு
DESCRIPTION:\n\n\nஆதம்பாக்கம் அருந்தமிழ் வழிபாட்டு மன்றம் மற்றும் தெய்வத்தமிழ் அறக்கட்டளை இணைந்து நடத்தும் \nபுறநானூறு தொடர் சொற்பொழிவு\nநாள்: ஜூலை 11\, 2020 காரி (சனி)க் கிழமை\nநேரம்: மாலை 6.30 மணி \nபெரியபுராணம் தொடர் சொற்பொழிவு\n15. மூர்த்தி நாயனார்\nநாள்: ஜூலை 12\, 2020 ஞாயிற்றுக்கிழமை\nநேரம்: மாலை 6.30 மணி \nஉரையாற்றுபவர்:\nஞானகுருநாதர்\, முதுமுனைவர். மு.பெ.சத்தியவேல் முருகனார் \nநேரலை முகவரி\nYouTube Live:\nhttps://www.youtube.com/dheivamurasu\nFacebook Live:\nhttps://facebook.com/dheivathamizh.arakattalai.9 \nகுறிப்பு: இனி வாரந்தோறும் ஒவ்வொரு காரி (சனி)க் கிழமை\,\nஞாயிற்றுக்கிழமைகளில் இச்சொற்பொழிவுகள் நடைபெறும். \n\n\n\n
URL:http://dheivamurasu.org/event/periyapuranam-sorpozhivu-moorthy-nayanar/
ATTACH;FMTTYPE=image/jpeg:http://dheivamurasu.org/wp-content/uploads/2020/07/WhatsApp-Image-2020-07-11-at-12.50.30-PM.jpeg
END:VEVENT
END:VCALENDAR