BEGIN:VCALENDAR
VERSION:2.0
PRODID:-// - ECPv4.9.3.1//NONSGML v1.0//EN
CALSCALE:GREGORIAN
METHOD:PUBLISH
X-ORIGINAL-URL:http://dheivamurasu.org
X-WR-CALDESC:Events for 
BEGIN:VEVENT
DTSTART;TZID=UTC+0:20200721T183000
DTEND;TZID=UTC+0:20200721T183000
DTSTAMP:20260421T201618
CREATED:20200818T071425Z
LAST-MODIFIED:20200818T071425Z
UID:4236-1595356200-1595356200@dheivamurasu.org
SUMMARY:பெரியபுராணம் ஞானவேள்வி
DESCRIPTION:\n\n\nபெரியபுராணம் ஞானவேள்வி\nநாள்: ஜூலை 21\, 2020 காரி செவ்வாய்க்கிழமை\nநேரம்: மாலை 6.30 மணி (IST) \nஉரையாற்றுபவர்:\nஞானகுருநாதர்\, முதுமுனைவர். மு.பெ.சத்தியவேல் முருகனார் \nநேரலை முகவரி\nYouTube Live:\nhttps://www.youtube.com/dheivamurasu\nFacebook Live:\nhttps://www.facebook.com/dheivathamizh.arakattalai.9 \nகுறிப்பு: இனி வாரந்தோறும் ஒவ்வொரு காரி (சனி)க் கிழமை\,\nஞாயிற்றுக்கிழமைகளில் இச்சொற்பொழிவுகள் நடைபெறும். \n\n\n\n
URL:http://dheivamurasu.org/event/periyapuranam-nyanavelvi/
ATTACH;FMTTYPE=image/jpeg:http://dheivamurasu.org/wp-content/uploads/2020/08/WhatsApp-Image-2020-08-18-at-12.12.31-PM.jpeg
END:VEVENT
END:VCALENDAR