BEGIN:VCALENDAR
VERSION:2.0
PRODID:-// - ECPv4.9.3.1//NONSGML v1.0//EN
CALSCALE:GREGORIAN
METHOD:PUBLISH
X-ORIGINAL-URL:http://dheivamurasu.org
X-WR-CALDESC:Events for 
BEGIN:VEVENT
DTSTART;TZID=UTC+0:20200208T080000
DTEND;TZID=UTC+0:20200208T120000
DTSTAMP:20260420T222333
CREATED:20200220T072033Z
LAST-MODIFIED:20200220T073751Z
UID:4004-1581148800-1581163200@dheivamurasu.org
SUMMARY:பெரியபுராண அற்புத விளக்கம்- தடுத்தாட்கொண்ட புராணம்
DESCRIPTION:\n\n\n\n\n\n		\n				\n				        \n            \n                \n            \n        \n							 \n			\n				\n				        \n            \n                \n            \n        \n							 \n			\n				\n				        \n            \n                \n            \n        \n							 \n			\n				\n				        \n            \n                \n            \n        \n							 \n			\n				\n				        \n            \n                \n            \n        \n							 \n			\n	\n	\n\n	\n		\n		\n \nClick Here for more Photos\n \n\n\n\n
URL:http://dheivamurasu.org/event/periyapuranam-arpudha-vilakkam/
LOCATION:குன்றத்தூர் தெய்வ சேக்கிழார் திருக்கோயில்\, Kundrathur Sekkizhar Temple\, Chennai\, India
ATTACH;FMTTYPE=image/jpeg:http://dheivamurasu.org/wp-content/uploads/2020/02/IMG-20200208-WA0114-scaled.jpeg
END:VEVENT
END:VCALENDAR