BEGIN:VCALENDAR
VERSION:2.0
PRODID:-// - ECPv4.9.3.1//NONSGML v1.0//EN
CALSCALE:GREGORIAN
METHOD:PUBLISH
X-ORIGINAL-URL:http://dheivamurasu.org
X-WR-CALDESC:Events for 
BEGIN:VEVENT
DTSTART;TZID=UTC+0:20190723T200000
DTEND;TZID=UTC+0:20190723T210000
DTSTAMP:20260425T185345
CREATED:20190802T083035Z
LAST-MODIFIED:20190808T130244Z
UID:3003-1563912000-1563915600@dheivamurasu.org
SUMMARY:புதியதலைமுறை டிவி | நேர்பட பேசு : அத்திவரதர்
DESCRIPTION:\n\n\nNerpada Pesu:அத்திவரதர் தரிசனத்தை வியாபாரமாக்க முயற்சி நடக்கிறதா? முதுமுனைவர்.மு.பெ.சத்தியவேல் முருகனார் பங்கேற்பு\n\n\n\n\n\n
URL:http://dheivamurasu.org/event/nerpada-pesu-athivaradhar/
LOCATION:Puthiyathalaimurai Television\, 25A Ikkattutankal NP Industrial Unit\, chennai\, Tamilnadu\, 600032\, India
END:VEVENT
END:VCALENDAR