BEGIN:VCALENDAR
VERSION:2.0
PRODID:-// - ECPv4.9.3.1//NONSGML v1.0//EN
CALSCALE:GREGORIAN
METHOD:PUBLISH
X-ORIGINAL-URL:http://dheivamurasu.org
X-WR-CALDESC:Events for 
BEGIN:VEVENT
DTSTART;TZID=UTC+0:20190921T140000
DTEND;TZID=UTC+0:20190921T140000
DTSTAMP:20260424T110120
CREATED:20190806T065025Z
LAST-MODIFIED:20191219T064752Z
UID:3020-1569074400-1569074400@dheivamurasu.org
SUMMARY:முதுமுனைவர்.மு.பெ.சத்தியவேல் முருகனாரின் பவழ விழா
DESCRIPTION:\n\n\nமுதுமுனைவர்.மு.பெ.சத்தியவேல் முருகனாரின் பவழ விழா \nநாள்: 21-09-2019 காரிக்கிழமை; மதியம் 2:00 மணி முதல் \nஇடம்: காமராஜர் அரங்கம்\, தேனாம்பேட்டை\, சென்னை \n\n\n\n\n		\n				\n				        \n            \n                \n            \n        \n							 \n			\n				\n				        \n            \n                \n            \n        \n							 \n			\n				\n				        \n            \n                \n            \n        \n							 \n			\n				\n				        \n            \n                \n            \n        \n							 \n			\n				\n				        \n            \n                \n            \n        \n							 \n			\n				\n				        \n            \n                \n            \n        \n							 \n			\n				\n				        \n            \n                \n            \n        \n							 \n			\n				\n				        \n            \n                \n            \n        \n							 \n			\n				\n				        \n            \n                \n            \n        \n							 \n			\n				\n				        \n            \n                \n            \n        \n							 \n			\n	\n	\n\n	\n		\n		\n\n\n\n		\n				\n				        \n            \n                \n            \n        \n							 \n			\n				\n				        \n            \n                \n            \n        \n							 \n			\n				\n				        \n            \n                \n            \n        \n							 \n			\n				\n				        \n            \n                \n            \n        \n							 \n			\n				\n				        \n            \n                \n            \n        \n							 \n			\n				\n				        \n            \n                \n            \n        \n							 \n			\n				\n				        \n            \n                \n            \n        \n							 \n			\n				\n				        \n            \n                \n            \n        \n							 \n			\n				\n				        \n            \n                \n            \n        \n							 \n			\n				\n				        \n            \n                \n            \n        \n							 \n			\n				\n				        \n            \n                \n            \n        \n							 \n			\n				\n				        \n            \n                \n            \n        \n							 \n			\n				\n				        \n            \n                \n            \n        \n							 \n			\n				\n				        \n            \n                \n            \n        \n							 \n			\n				\n				        \n            \n                \n            \n        \n							 \n			\n	\n	\n\n	\n		\n		\nhttps://photos.app.goo.gl/SurkJFRjN8wyVNH4A \n  \n  \n\n\n\n
URL:http://dheivamurasu.org/event/mupesa-pavala-vizha/
LOCATION:Kamarajar Arangam\, Anna Salai\, Road\, Teynampet\,\, Chennai\, Tamilnadu\, 600006\, India
ATTACH;FMTTYPE=image/jpeg:http://dheivamurasu.org/wp-content/uploads/2019/08/pavalavizha-1.jpg
END:VEVENT
END:VCALENDAR