BEGIN:VCALENDAR
VERSION:2.0
PRODID:-// - ECPv4.9.3.1//NONSGML v1.0//EN
CALSCALE:GREGORIAN
METHOD:PUBLISH
X-ORIGINAL-URL:http://dheivamurasu.org
X-WR-CALDESC:Events for 
BEGIN:VEVENT
DTSTART;TZID=UTC+0:20230419T183000
DTEND;TZID=UTC+0:20230419T203000
DTSTAMP:20260423T065600
CREATED:20230419T110441Z
LAST-MODIFIED:20230419T110441Z
UID:5568-1681929000-1681936200@dheivamurasu.org
SUMMARY:முதல்மொழி வழங்கும் நாளைய தமிழர்
DESCRIPTION:\n\n\n\n\n\n\n
URL:http://dheivamurasu.org/event/mudhalmozhi-thamizh/
LOCATION:Chennai
ATTACH;FMTTYPE=image/jpeg:http://dheivamurasu.org/wp-content/uploads/2023/04/thamizh.jpeg
END:VEVENT
END:VCALENDAR