BEGIN:VCALENDAR
VERSION:2.0
PRODID:-// - ECPv4.9.3.1//NONSGML v1.0//EN
CALSCALE:GREGORIAN
METHOD:PUBLISH
X-ORIGINAL-URL:http://dheivamurasu.org
X-WR-CALDESC:Events for 
BEGIN:VEVENT
DTSTART;TZID=UTC+0:20200203T080000
DTEND;TZID=UTC+0:20200203T170000
DTSTAMP:20260420T200950
CREATED:20200203T123211Z
LAST-MODIFIED:20200203T123211Z
UID:3962-1580716800-1580749200@dheivamurasu.org
SUMMARY:மாதந்தோறும் ஞானவேள்வி
DESCRIPTION:\n\n\nகுன்றத்துர் தெய்வ சேக்கிழார் திருக்கோயிலில் நடைபெறும்  ” மாதந்தோறும் ஞானவேள்வி “ நிகழ்ச்சி 08.02.2020\, சனிக்கிழமை அன்று காலை 8.30 முதல் மதியம் 12.00 மணி வரை நடைபெறும். அவ்வமையம் செந்தமிழ் வேள்விச்சதுரர்\, முதுமுனைவர்\, மு.பெ.சத்தியவேல் முருகனார் அவர்கள் சிறப்பு சொற்பொழிவு ஆற்றுவர்கள். அனைவரும் வருக.!!!\nகாலை நிகழ்வு என்பதைக் குறித்துக் கொள்ள வேண்டுகிறோம். \n\n\n\n
URL:http://dheivamurasu.org/event/mathanthorum-gnanavelvi-2/
LOCATION:குன்றத்தூர் தெய்வ சேக்கிழார் திருக்கோயில்\, Kundrathur Sekkizhar Temple\, Chennai\, India
ATTACH;FMTTYPE=image/jpeg:http://dheivamurasu.org/wp-content/uploads/2019/06/SekkizharGnanavelvi-MuPeSa.jpeg
END:VEVENT
END:VCALENDAR