BEGIN:VCALENDAR
VERSION:2.0
PRODID:-// - ECPv4.9.3.1//NONSGML v1.0//EN
CALSCALE:GREGORIAN
METHOD:PUBLISH
X-ORIGINAL-URL:http://dheivamurasu.org
X-WR-CALDESC:Events for 
BEGIN:VEVENT
DTSTART;TZID=UTC+0:20191120T080000
DTEND;TZID=UTC+0:20191120T170000
DTSTAMP:20260424T074947
CREATED:20191120T132446Z
LAST-MODIFIED:20191125T135838Z
UID:3584-1574236800-1574269200@dheivamurasu.org
SUMMARY:KUIL SRI MAHA RAJA RAJESWARAR KOVIL KUMBABISHEKAM
DESCRIPTION:\n\n\nஅருள்மிகு ஸ்ரீ மகா இராஜராஜேஸ்வரர் ஆலயம் \nசெந்தமிழ் திருமாமறை மந்திரங்களால் (தமிழில்) குடமுழுக்கு (மகா கும்பாபிஷேகம்)\n20.11.2019 முதல் 24.11.2019 வரை\n \n\n\n\n		\n				\n				        \n            \n                \n            \n        \n							 \n			\n				\n				        \n            \n                \n            \n        \n							 \n			\n				\n				        \n            \n                \n            \n        \n							 \n			\n				\n				        \n            \n                \n            \n        \n							 \n			\n				\n				        \n            \n                \n            \n        \n							 \n			\n				\n				        \n            \n                \n            \n        \n							 \n			\n				\n				        \n            \n                \n            \n        \n							 \n			\n				\n				        \n            \n                \n            \n        \n							 \n			\n				\n				        \n            \n                \n            \n        \n							 \n			\n				\n				        \n            \n                \n            \n        \n							 \n			\n				\n				        \n            \n                \n            \n        \n							 \n			\n				\n				        \n            \n                \n            \n        \n							 \n			\n				\n				        \n            \n                \n            \n        \n							 \n			\n				\n				        \n            \n                \n            \n        \n							 \n			\n				\n				        \n            \n                \n            \n        \n							 \n			\n				\n				        \n            \n                \n            \n        \n							 \n			\n				\n				        \n            \n                \n            \n        \n							 \n			\n				\n				        \n            \n                \n            \n        \n							 \n			\n				\n				        \n            \n                \n            \n        \n							 \n			\n				\n				        \n            \n                \n            \n        \n							 \n			\n				\n				        \n            \n                \n            \n        \n							 \n			\n				\n				        \n            \n                \n            \n        \n							 \n			\n				\n				        \n            \n                \n            \n        \n							 \n			\n				\n				        \n            \n                \n            \n        \n							 \n			\n	\n	\n\n	\n		\n	12►	\nhttps://photos.app.goo.gl/JijJYEfXKxi8eK5i8 \n இராஜ இராஜேஸ்வரர் திருக்கோவில் – சிரம்பான் -திருக்குட நன்னீராட்டு – இரண்டாம் மற்றும்  மூன்றாம் காலம் 22112019 · Nov 21 – 22\, 2019 📸 / Google Photos\n இராஜ இராஜேஸ்வரர் திருக்கோவில் – சிரம்பான் -திருக்குட நன்னீராட்டு – நான்கு மற்றும் ஐந்தாம் கால வேள்வி – 23112019  · Nov 22 – 23\, 2019 📸 / Google Photos\nஇராஜ இராஜேஸ்வரர் திருக்கோவில் – சிரம்பான் -திருக்குட நன்னீராட்டு – ஆறாம் கால வேள்வி & திருக்குட நன்னீராட்டு – 24112019 · Nov 23 – 25\, 2019 📸 / Google Photos\n  \n\n\n\n
URL:http://dheivamurasu.org/event/kuil-sri-maha-raja-rajeswarar-kovil-kumbabishekam/
ATTACH;FMTTYPE=image/jpeg:http://dheivamurasu.org/wp-content/uploads/2019/11/IMG_20191120_183620.jpg
END:VEVENT
END:VCALENDAR