BEGIN:VCALENDAR
VERSION:2.0
PRODID:-// - ECPv4.9.3.1//NONSGML v1.0//EN
CALSCALE:GREGORIAN
METHOD:PUBLISH
X-ORIGINAL-URL:http://dheivamurasu.org
X-WR-CALDESC:Events for 
BEGIN:VEVENT
DTSTART;TZID=UTC+0:20191020T073000
DTEND;TZID=UTC+0:20191020T130000
DTSTAMP:20260424T030413
CREATED:20191017T070232Z
LAST-MODIFIED:20191021T065400Z
UID:3426-1571556600-1571576400@dheivamurasu.org
SUMMARY:பவள விழா - இரும்பெரும் விழா
DESCRIPTION:\n\n\n\n\n\n		\n				\n				        \n            \n                \n            \n        \n							 \n			\n				\n				        \n            \n                \n            \n        \n							 \n			\n				\n				        \n            \n                \n            \n        \n							 \n			\n				\n				        \n            \n                \n            \n        \n							 \n			\n				\n				        \n            \n                \n            \n        \n							 \n			\n	\n	\n\n	\n		\n		\n  \nகுருபிரான் பவள விழா @ கீழ்புத்துப்பட்டு\, கிழக்கு கடற்கரை சாலை – அமிர்தா தமிழ்ச் சங்கம் \, சோம. தண்டபாணி மற்றும் செந்தமிழாகம அந்தணர்கள் 20102019 · Oct 20 – 23\, 2019 📸 / Google Photos\n \nv  \n\n\n\n
URL:http://dheivamurasu.org/event/irumperum-vizha/
LOCATION:Venu gnana guru thirumana mandapam\, National highways 49\, ECR\, keelpuththupattu savadi\,\, Tamilnadu\, 604303\, India
ATTACH;FMTTYPE=image/jpeg:http://dheivamurasu.org/wp-content/uploads/2019/10/IMG-20191017-WA0012.jpg
END:VEVENT
END:VCALENDAR