BEGIN:VCALENDAR
VERSION:2.0
PRODID:-// - ECPv4.9.3.1//NONSGML v1.0//EN
CALSCALE:GREGORIAN
METHOD:PUBLISH
X-ORIGINAL-URL:http://dheivamurasu.org
X-WR-CALDESC:Events for 
BEGIN:VEVENT
DTSTART;TZID=UTC+0:20200815T183000
DTEND;TZID=UTC+0:20200815T183000
DTSTAMP:20260422T014050
CREATED:20200818T072247Z
LAST-MODIFIED:20200819T084919Z
UID:4245-1597516200-1597516200@dheivamurasu.org
SUMMARY:புறநானூறு தொடர் சொற்பொழிவு
DESCRIPTION:\n\n\nவணக்கம். \nநமது ஞானகுருநாதர்\, முதுமுனைவர்.மு.பெ.சத்தியவேல் முருகனார் அவர்கள் உரையாற்றும் புறநானூறு தொடர் சொற்பொழிவு ஆகஸ்ட் 15ஆம் தேதி காரி(சனி)க் கிழமை அன்று மாலை 6.30 மணி அளவில் நடைபெற இருக்கிறது.  \nதாங்கள் எல்லோரும் தெய்வமுரசு YouTube channel : https://www.youtube.com/channel/UCwPmBked-THRArDq79wFcrA நேரலையில் குறித்த நேரத்தில் இணைந்தால் அச்சொற்பொழிவினை கண்டும் கேட்டும் மகிழலாம். \n\n\n\n\n
URL:http://dheivamurasu.org/event/http-dheivamurasu-org-event-purananoor-thodar-sorpozhivu-5/
ATTACH;FMTTYPE=image/jpeg:http://dheivamurasu.org/wp-content/uploads/2020/08/WhatsApp-Image-2020-08-18-at-12.12.30-PM.jpeg
END:VEVENT
END:VCALENDAR