BEGIN:VCALENDAR
VERSION:2.0
PRODID:-// - ECPv4.9.3.1//NONSGML v1.0//EN
CALSCALE:GREGORIAN
METHOD:PUBLISH
X-ORIGINAL-URL:http://dheivamurasu.org
X-WR-CALDESC:Events for 
BEGIN:VEVENT
DTSTART;TZID=UTC+0:20191015T080000
DTEND;TZID=UTC+0:20191015T150000
DTSTAMP:20260424T030500
CREATED:20191016T123710Z
LAST-MODIFIED:20191016T124820Z
UID:3413-1571126400-1571151600@dheivamurasu.org
SUMMARY:குருபிரான் - பவள விழா வழிபாடு @ திருப்போரூர் சிதம்பர சாமிகள் திருச் சன்னதி
DESCRIPTION:\n\n\n\n\n\n		\n				\n				        \n            \n                \n            \n        \n							 \n			\n				\n				        \n            \n                \n            \n        \n							 \n			\n				\n				        \n            \n                \n            \n        \n							 \n			\n				\n				        \n            \n                \n            \n        \n							 \n			\n				\n				        \n            \n                \n            \n        \n							 \n			\n	\n	\n\n	\n		\n		\n  \nகுருபிரான் – பவள விழா வழிபாடு @ திருப்போரூர் சிதம்பர சாமிகள் திருச் சன்னதி 15102019 · Tuesday\, Oct 15\, 2019 📸 / Google Photos\n  \n\n\n\n
URL:http://dheivamurasu.org/event/gurubiran-pavalavizha-vazhipaadu/
LOCATION:திருப்போரூர் சிதம்பர சாமிகள் திருச் சன்னதி\, Thiruporur\, Chennai\, Tamilnadu\, 603110\, India
ATTACH;FMTTYPE=image/jpeg:http://dheivamurasu.org/wp-content/uploads/2019/10/IMG20191015112709.jpg
END:VEVENT
END:VCALENDAR