BEGIN:VCALENDAR
VERSION:2.0
PRODID:-// - ECPv4.9.3.1//NONSGML v1.0//EN
CALSCALE:GREGORIAN
METHOD:PUBLISH
X-ORIGINAL-URL:http://dheivamurasu.org
X-WR-CALDESC:Events for 
BEGIN:VEVENT
DTSTART;TZID=UTC+0:20190824T100000
DTEND;TZID=UTC+0:20190824T100000
DTSTAMP:20260424T190051
CREATED:20190826T115827Z
LAST-MODIFIED:20190916T093220Z
UID:3196-1566640800-1566640800@dheivamurasu.org
SUMMARY:குருபிரான் கீழடி கள ஆய்வு - அடியார்களுடன்
DESCRIPTION:\n\n\n\n\n\n		\n				\n				        \n            \n                \n            \n        \n							 \n			\n				\n				        \n            \n                \n            \n        \n							 \n			\n				\n				        \n            \n                \n            \n        \n							 \n			\n				\n				        \n            \n                \n            \n        \n							 \n			\n				\n				        \n            \n                \n            \n        \n							 \n			\n				\n				        \n            \n                \n            \n        \n							 \n			\n	\n	\n\n	\n		\n		\n \n(Click here for more photos) \n\n\n\n
URL:http://dheivamurasu.org/event/gurubiran-keeladi-kala-aiyvu/
LOCATION:keeladi agalvarachi\, keeladi\, thirupuvanam\,\, sivagangai\, Tamilnadu\, 630611\, India
ATTACH;FMTTYPE=image/jpeg:http://dheivamurasu.org/wp-content/uploads/2019/08/IMG-20190824-WA0022.jpg
END:VEVENT
END:VCALENDAR