BEGIN:VCALENDAR
VERSION:2.0
PRODID:-// - ECPv4.9.3.1//NONSGML v1.0//EN
CALSCALE:GREGORIAN
METHOD:PUBLISH
X-ORIGINAL-URL:http://dheivamurasu.org
X-WR-CALDESC:Events for 
BEGIN:VEVENT
DTSTART;TZID=UTC+0:20190815T080000
DTEND;TZID=UTC+0:20190815T080000
DTSTAMP:20260425T034109
CREATED:20190819T093603Z
LAST-MODIFIED:20190916T101628Z
UID:3124-1565856000-1565856000@dheivamurasu.org
SUMMARY:குருபிரான் 73 - ஆம் ஆண்டு சுதந்திரதின கொடியேற்றம்
DESCRIPTION:\n\n\n“குருபிரான் 73 – ஆம்  ஆண்டு சுதந்திரதின கொடியேற்றம்”\nநாள் : 15-08-2019\nஇடம் : ஆதம்பாக்கம் – நியூகாலனி நலச்சங்கம்\n \n  \n\n\n\n		\n				\n				        \n            \n                \n            \n        \n							 \n			\n				\n				        \n            \n                \n            \n        \n							 \n			\n				\n				        \n            \n                \n            \n        \n							 \n			\n				\n				        \n            \n                \n            \n        \n							 \n			\n				\n				        \n            \n                \n            \n        \n							 \n			\n	\n	\n\n	\n		\n		\n \n(Click here for more photos) \n\n\n\n
URL:http://dheivamurasu.org/event/gurubiran-73rd-independence-day-flag-hoisting/
LOCATION:12/f\, 11th street\, New colony\, Adambakkam\, 12/f\, 11th street\, new colony\, Adambakkam\, Chennai\, 600088\, India
ATTACH;FMTTYPE=image/jpeg:http://dheivamurasu.org/wp-content/uploads/2019/08/aiyyah.jpg
END:VEVENT
END:VCALENDAR