BEGIN:VCALENDAR
VERSION:2.0
PRODID:-// - ECPv4.9.3.1//NONSGML v1.0//EN
CALSCALE:GREGORIAN
METHOD:PUBLISH
X-ORIGINAL-URL:http://dheivamurasu.org
X-WR-CALDESC:Events for 
BEGIN:VEVENT
DTSTART;TZID=UTC+0:20200111T160000
DTEND;TZID=UTC+0:20200112T203000
DTSTAMP:20260420T151345
CREATED:20200106T070932Z
LAST-MODIFIED:20200114T070124Z
UID:3823-1578758400-1578861000@dheivamurasu.org
SUMMARY:9ம் ஆண்டு வள்ளிமலை மலைவலம் படிவிழா
DESCRIPTION:\n\n\n\n\n\n		\n				\n				        \n            \n                \n            \n        \n							 \n			\n				\n				        \n            \n                \n            \n        \n							 \n			\n				\n				        \n            \n                \n            \n        \n							 \n			\n				\n				        \n            \n                \n            \n        \n							 \n			\n				\n				        \n            \n                \n            \n        \n							 \n			\n				\n				        \n            \n                \n            \n        \n							 \n			\n				\n				        \n            \n                \n            \n        \n							 \n			\n				\n				        \n            \n                \n            \n        \n							 \n			\n				\n				        \n            \n                \n            \n        \n							 \n			\n				\n				        \n            \n                \n            \n        \n							 \n			\n				\n				        \n            \n                \n            \n        \n							 \n			\n				\n				        \n            \n                \n            \n        \n							 \n			\n				\n				        \n            \n                \n            \n        \n							 \n			\n				\n				        \n            \n                \n            \n        \n							 \n			\n				\n				        \n            \n                \n            \n        \n							 \n			\n				\n				        \n            \n                \n            \n        \n							 \n			\n	\n	\n\n	\n		\n		\n \n \n \n \n\n\n\n
URL:http://dheivamurasu.org/event/9th-year-vallimalai-malaivalam-padivizha/
LOCATION:தேவி வள்ளியம்மை தவப்பீடம்\,\, வள்ளிமலை - 632 520\, வேலூர் மாவட்டம்.\, Vellore\, Tamilnadu\, 632520\, India
ATTACH;FMTTYPE=image/jpeg:http://dheivamurasu.org/wp-content/uploads/2020/01/IMG-20200106-WA0006.jpg
END:VEVENT
END:VCALENDAR