BEGIN:VCALENDAR
VERSION:2.0
PRODID:-// - ECPv4.9.3.1//NONSGML v1.0//EN
CALSCALE:GREGORIAN
METHOD:PUBLISH
X-ORIGINAL-URL:http://dheivamurasu.org
X-WR-CALDESC:Events for 
BEGIN:VEVENT
DTSTART;TZID=UTC+0:20191004T080000
DTEND;TZID=UTC+0:20191004T170000
DTSTAMP:20260424T075559
CREATED:20191004T125205Z
LAST-MODIFIED:20191004T125205Z
UID:3378-1570176000-1570208400@dheivamurasu.org
SUMMARY:சென்னைப் பெருநகர் செங்குந்த மகாசன சங்கம் 47 -ஆம் ஆண்டு விழா @ சடையப்பர் திருமண மணடபம் - திருமழிசை
DESCRIPTION:\n\n\n\n\n\n		\n				\n				        \n            \n                \n            \n        \n							 \n			\n				\n				        \n            \n                \n            \n        \n							 \n			\n				\n				        \n            \n                \n            \n        \n							 \n			\n				\n				        \n            \n                \n            \n        \n							 \n			\n				\n				        \n            \n                \n            \n        \n							 \n			\n	\n	\n\n	\n		\n		\n \n\n\n\n
URL:http://dheivamurasu.org/event/47th-chenguntha-magasana-sangam-annualday/
LOCATION:சடையப்பர் திருமண மண்டபம்\, 85A BANGALORE NATIONAL HIGHWAY POONAMALLEE\, THIRUMAZHISAI\, NEAR\, MOTEL HIGHWAY\,\, Chennai\, Tamilnadu\, 600124\, India
ATTACH;FMTTYPE=image/jpeg:http://dheivamurasu.org/wp-content/uploads/2019/10/IMG20191002112221.jpg
END:VEVENT
END:VCALENDAR