BEGIN:VCALENDAR
VERSION:2.0
PRODID:-// - ECPv4.9.3.1//NONSGML v1.0//EN
CALSCALE:GREGORIAN
METHOD:PUBLISH
X-ORIGINAL-URL:http://dheivamurasu.org
X-WR-CALDESC:Events for 
BEGIN:VEVENT
DTSTART;TZID=UTC+0:20210718T080000
DTEND;TZID=UTC+0:20210718T170000
DTSTAMP:20260423T014456
CREATED:20210719T161909Z
LAST-MODIFIED:20210725T140359Z
UID:4719-1626595200-1626627600@dheivamurasu.org
SUMMARY:சிந்தனை அரங்கம் - தமிழ் இன்பம்
DESCRIPTION:\n\n\n  \n\n  \n\n\n\n
URL:http://dheivamurasu.org/event/4719/
END:VEVENT
END:VCALENDAR