BEGIN:VCALENDAR
VERSION:2.0
PRODID:-// - ECPv4.9.3.1//NONSGML v1.0//EN
CALSCALE:GREGORIAN
METHOD:PUBLISH
X-ORIGINAL-URL:http://dheivamurasu.org
X-WR-CALDESC:Events for 
BEGIN:VEVENT
DTSTART;TZID=UTC+0:20190707T114500
DTEND;TZID=UTC+0:20190707T130000
DTSTAMP:20260425T220337
CREATED:20190706T061238Z
LAST-MODIFIED:20190709T091104Z
UID:2696-1562499900-1562504400@dheivamurasu.org
SUMMARY:இருபத்தொன்பதாம் ஆண்டு திருவாசக மாநாட்டு
DESCRIPTION:\n\n\nஇருபத்தொன்பதாம் ஆண்டு திருவாசக மாநாட்டு \n(07/07/2019)   (11:45am to 01:00pm) \nகோகலே சாஸ்திரி இன்ஸ்டிடியூட் \n\n\n\n		\n				\n				        \n            \n                \n            \n        \n							 \n			\n				\n				        \n            \n                \n            \n        \n							 \n			\n				\n				        \n            \n                \n            \n        \n							 \n			\n				\n				        \n            \n                \n            \n        \n							 \n			\n	\n	\n\n	\n		\n		\n \n\n\n\n
URL:http://dheivamurasu.org/event/29th-thiruvasaga-manadu-invitation/
LOCATION:கோகலே சாஸ்திரி இன்ஸ்டிடியூட்\, 40/161\, Karpagambal Nagar\, Kattukoil Garden\, Mylapore\,\, Chennai\, tamilnadu\, 600004\, India
ATTACH;FMTTYPE=image/jpeg:http://dheivamurasu.org/wp-content/uploads/2019/07/IMG-20190707-WA0105.jpeg
END:VEVENT
END:VCALENDAR