BEGIN:VCALENDAR
VERSION:2.0
PRODID:-// - ECPv4.9.3.1//NONSGML v1.0//EN
CALSCALE:GREGORIAN
METHOD:PUBLISH
X-ORIGINAL-URL:http://dheivamurasu.org
X-WR-CALDESC:Events for 
BEGIN:VEVENT
DTSTART;TZID=UTC+0:20231113T170000
DTEND;TZID=UTC+0:20231118T203000
DTSTAMP:20260423T222257
CREATED:20231030T103700Z
LAST-MODIFIED:20231030T104757Z
UID:5787-1699894800-1700339400@dheivamurasu.org
SUMMARY:15ம் ஆண்டு கந்தன் கவினாறு (கந்த சஷ்டி) விழா
DESCRIPTION:\n\n\n  \n \nமுருக நேய அன்பர்களே! வணக்கம்!! \nஆதம்பாக்கம் அருந்தமிழ் வழிபாட்டு மன்றம் இறை திருவருளாலும் குருவருளாலும் நமது ஞானதேசிகர் முதுமுனைவர்.மு.பெ.சத்தியவேல் முருகனார் வழிகாட்டுத்தலின்படி நடாத்தும் 15ம் ஆண்டு கந்தன் கவினாறு (கந்த சஷ்டி) விழா அழைப்பிதழை இணைத்துள்ளேன். முருகன் திருவருளை நிணைந்து இணைந்து அருள் நலம் பெற பணிவோடு அழைகின்றோம்!! \nநன்றி\nவணக்கம் \n  \n\n\n\n
URL:http://dheivamurasu.org/event/15th-kandha-sashti-vizha/
LOCATION:Chennai
ATTACH;FMTTYPE=image/png:http://dheivamurasu.org/wp-content/uploads/2023/10/kandha-sasti-new.png
END:VEVENT
END:VCALENDAR