BEGIN:VCALENDAR
VERSION:2.0
PRODID:-// - ECPv4.9.3.1//NONSGML v1.0//EN
CALSCALE:GREGORIAN
METHOD:PUBLISH
X-ORIGINAL-URL:http://dheivamurasu.org
X-WR-CALDESC:Events for 
BEGIN:VEVENT
DTSTART;TZID=UTC+0:20240106T160000
DTEND;TZID=UTC+0:20240107T170000
DTSTAMP:20260424T014440
CREATED:20240105T143710Z
LAST-MODIFIED:20240105T144253Z
UID:5893-1704556800-1704646800@dheivamurasu.org
SUMMARY:13ம் ஆண்டு வள்ளிமலை மலைவலம் மற்றும் படிவிழா
DESCRIPTION:\n\n\n\n\nசீலம் நிறைந்த செம்மல்களே!\nவள்ளிமணாளன் திருவருளாலும்\, வாரியார் சுவாமிகள் குருவருளாலும்\, திருப்புகழ் சிவம் வேலூர்.மு.பெருமாள் அவர்கள் நல்ஆசியாலும் தெய்வத்தமிழ் அறக்கட்டளை நடத்தும் “தமிழர் திருநாள் ஆசிபெறும் 13ம் ஆண்டு வள்ளிமலை மலைவலம் மற்றும் படிவிழா வருகின்ற 06-01-2024 காரி(சனி)க் கிழமை மற்றும் 07-01-2024 ஞாயிற்றுக் கிழமை அன்று நமது ஞானதேசிகர் முதுமுனைவர்.மு.பெ.சத்தியவேல் முருகனார் வழிநடத்த கீழ்கண்ட நிகழ்ச்சி நிரலின்படி நடைபெற உள்ளது என்பதை மகிழ்வோடு தெரிவித்துக் கொள்கிறோம். \nஇவ்வாண்டு பொங்கல் தொடங்கி அன்பர்கள் அனைவரின் வாழ்விலும் இன்பமும் மகிழ்ச்சியும் பொங்க வள்ளியம்மையையும் வள்ளிமணாளனையும் வழிபட்டு அருள்நலம் பெற அன்போடு அழைக்கின்றோம். \nஇடம்: பெனுகொண்ட ரெட்டி திருமண மண்டபம்\,\nவள்ளிமலை தேரடி அருகில்\,வள்ளிமலை.\nhttps://goo.gl/maps/LwDE4AQxcH6ZvgTX9 \n                                                                                   Download Vallimalai Invitation PDF\n\n \n  \n\n\n\n
URL:http://dheivamurasu.org/event/13-vallimalai-padi-vizha/
ATTACH;FMTTYPE=image/png:http://dheivamurasu.org/wp-content/uploads/2024/01/vallimallai.png
END:VEVENT
END:VCALENDAR