BEGIN:VCALENDAR
VERSION:2.0
PRODID:-// - ECPv4.9.3.1//NONSGML v1.0//EN
CALSCALE:GREGORIAN
METHOD:PUBLISH
X-ORIGINAL-URL:http://dheivamurasu.org
X-WR-CALDESC:Events for 
BEGIN:VEVENT
DTSTART;TZID=UTC+0:20210109T160000
DTEND;TZID=UTC+0:20210110T103000
DTSTAMP:20260422T203248
CREATED:20210108T191215Z
LAST-MODIFIED:20210108T191215Z
UID:4332-1610208000-1610274600@dheivamurasu.org
SUMMARY:10 ஆம் ஆண்டு வள்ளிமலை மலைவலம் படிவிழா
DESCRIPTION:\n\n\nசேந்தன் அன்பர்களே!! \nவணக்கம். இறைவன் திருவருளாலும் குருவருளாலும் இந்த ஆண்டு (2021) வள்ளிமலை படிவிழா மற்றும் மலைவல விழா ஜனவரி 9 மற்றும் 10 ஆம் தேதி அன்று நடைபெற உள்ளது. அவ்விழாவிற்கான அழைப்பிதழை இணைத்துள்ளேன். \nஅனைவரும் வருக! அருள்நலம் பெறுக!!\n(மேலதிக விவரங்களுக்கு அழைப்பிதழை காணவும்) \nஇங்ஙனம்\nதெய்வத்தமிழ் அறக்கட்டளை உறுப்பினர். \n    \n\n\n\n
URL:http://dheivamurasu.org/event/10-%e0%ae%86%e0%ae%ae%e0%af%8d-%e0%ae%86%e0%ae%a3%e0%af%8d%e0%ae%9f%e0%af%81-%e0%ae%b5%e0%ae%b3%e0%af%8d%e0%ae%b3%e0%ae%bf%e0%ae%ae%e0%ae%b2%e0%af%88-%e0%ae%ae%e0%ae%b2%e0%af%88%e0%ae%b5%e0%ae%b2/
LOCATION:அருள்மிகு தேவி வள்ளியம்மை தவபீடம்\, அருள்மிகு தேவி வள்ளியம்மை தவபீடம்\, வள்ளிமலை\, Tamilnadu\, 632520\, India
ATTACH;FMTTYPE=image/jpeg:http://dheivamurasu.org/wp-content/uploads/2021/01/WhatsApp-Image-2021-01-04-at-4.17.25-PM.jpeg
END:VEVENT
END:VCALENDAR